BEGIN:VCALENDAR
VERSION:2.0
PRODID:-//Alexandra Presbyterian Church Belfast - ECPv4.6//NONSGML v1.0//EN
CALSCALE:GREGORIAN
METHOD:PUBLISH
X-WR-CALNAME:Alexandra Presbyterian Church Belfast
X-ORIGINAL-URL:https://alexandrapresbyterian.org.uk
X-WR-CALDESC:Events for Alexandra Presbyterian Church Belfast
BEGIN:VEVENT
DTSTART;TZID=UTC+0:20210314T110000
DTEND;TZID=UTC+0:20210314T120000
DTSTAMP:20260423T120553
CREATED:20210228T101833Z
LAST-MODIFIED:20210228T101833Z
UID:1269-1615719600-1615723200@alexandrapresbyterian.org.uk
SUMMARY:Sunday Worship
DESCRIPTION:We will join together for worship online where Rev. Cahoon will continue his series of sermons\, ‘The Call for a King’\, looking at the book of 1 Samuel. \n
URL:https://alexandrapresbyterian.org.uk/event/sunday-worship-10/
END:VEVENT
END:VCALENDAR