BEGIN:VCALENDAR
VERSION:2.0
PRODID:-//Alexandra Presbyterian Church Belfast - ECPv4.6//NONSGML v1.0//EN
CALSCALE:GREGORIAN
METHOD:PUBLISH
X-WR-CALNAME:Alexandra Presbyterian Church Belfast
X-ORIGINAL-URL:https://alexandrapresbyterian.org.uk
X-WR-CALDESC:Events for Alexandra Presbyterian Church Belfast
BEGIN:VEVENT
DTSTART;TZID=UTC+0:20210310T193000
DTEND;TZID=UTC+0:20210310T203000
DTSTAMP:20260423T101406
CREATED:20210307T100810Z
LAST-MODIFIED:20210307T100810Z
UID:1303-1615404600-1615408200@alexandrapresbyterian.org.uk
SUMMARY:Prayer Meeting (via Zoom)
DESCRIPTION:We will be joining together on Zoom for prayer. The details for the Zoom meeting will be posted on the Facebook page. If you are not on Facebook\, please get in touch and we will get the details to you. This prayer meeting is open to everyone. \n
URL:https://alexandrapresbyterian.org.uk/event/prayer-meeting-via-zoom-5/
END:VEVENT
END:VCALENDAR