BEGIN:VCALENDAR
VERSION:2.0
PRODID:-//Alexandra Presbyterian Church Belfast - ECPv4.6//NONSGML v1.0//EN
CALSCALE:GREGORIAN
METHOD:PUBLISH
X-WR-CALNAME:Alexandra Presbyterian Church Belfast
X-ORIGINAL-URL:http://alexandrapresbyterian.org.uk
X-WR-CALDESC:Events for Alexandra Presbyterian Church Belfast
BEGIN:VEVENT
DTSTART;TZID=UTC+0:20170424T194500
DTEND;TZID=UTC+0:20170424T210000
DTSTAMP:20260419T143025
CREATED:20170331T085849Z
LAST-MODIFIED:20170331T085849Z
UID:224-1493063100-1493067600@alexandrapresbyterian.org.uk
SUMMARY:Table Tennis Club
DESCRIPTION:
URL:http://alexandrapresbyterian.org.uk/event/table-tennis-club-2/
LOCATION:80 York Road\, Belfast\, BT15 3HF\, United Kingdom
END:VEVENT
END:VCALENDAR