BEGIN:VCALENDAR
VERSION:2.0
PRODID:-//Alexandra Presbyterian Church Belfast - ECPv4.6//NONSGML v1.0//EN
CALSCALE:GREGORIAN
METHOD:PUBLISH
X-WR-CALNAME:Alexandra Presbyterian Church Belfast
X-ORIGINAL-URL:http://alexandrapresbyterian.org.uk
X-WR-CALDESC:Events for Alexandra Presbyterian Church Belfast
BEGIN:VEVENT
DTSTART;TZID=UTC+0:20170607T194500
DTEND;TZID=UTC+0:20170607T210000
DTSTAMP:20260421T081340
CREATED:20170521T162224Z
LAST-MODIFIED:20170521T162224Z
UID:326-1496864700-1496869200@alexandrapresbyterian.org.uk
SUMMARY:Prayer Meeting
DESCRIPTION:Join us as we pray for our vacancy. \n
URL:http://alexandrapresbyterian.org.uk/event/prayer-meeting-12/
LOCATION:80 York Road\, Belfast\, BT15 3HF\, United Kingdom
END:VEVENT
END:VCALENDAR