BEGIN:VCALENDAR
VERSION:2.0
PRODID:-//Alexandra Presbyterian Church Belfast - ECPv4.6//NONSGML v1.0//EN
CALSCALE:GREGORIAN
METHOD:PUBLISH
X-WR-CALNAME:Alexandra Presbyterian Church Belfast
X-ORIGINAL-URL:http://alexandrapresbyterian.org.uk
X-WR-CALDESC:Events for Alexandra Presbyterian Church Belfast
BEGIN:VEVENT
DTSTART;TZID=UTC+0:20170507T190000
DTEND;TZID=UTC+0:20170507T200000
DTSTAMP:20260419T142409
CREATED:20170510T171012Z
LAST-MODIFIED:20170510T171012Z
UID:299-1494183600-1494187200@alexandrapresbyterian.org.uk
SUMMARY:Evening Service
DESCRIPTION:
URL:http://alexandrapresbyterian.org.uk/event/evening-service-4/
LOCATION:80 York Road\, Belfast\, BT15 3HF\, United Kingdom
END:VEVENT
END:VCALENDAR